BEGIN:VCALENDAR
VERSION:2.0
PRODID:-//A Jesús por María - ECPv6.15.12.2//NONSGML v1.0//EN
CALSCALE:GREGORIAN
METHOD:PUBLISH
X-WR-CALNAME:A Jesús por María
X-ORIGINAL-URL:https://asesoresmedjugorje.com
X-WR-CALDESC:Eventos para A Jesús por María
REFRESH-INTERVAL;VALUE=DURATION:PT1H
X-Robots-Tag:noindex
X-PUBLISHED-TTL:PT1H
BEGIN:VTIMEZONE
TZID:Europe/Madrid
BEGIN:DAYLIGHT
TZOFFSETFROM:+0100
TZOFFSETTO:+0200
TZNAME:CEST
DTSTART:20250330T010000
END:DAYLIGHT
BEGIN:STANDARD
TZOFFSETFROM:+0200
TZOFFSETTO:+0100
TZNAME:CET
DTSTART:20251026T010000
END:STANDARD
BEGIN:DAYLIGHT
TZOFFSETFROM:+0100
TZOFFSETTO:+0200
TZNAME:CEST
DTSTART:20260329T010000
END:DAYLIGHT
BEGIN:STANDARD
TZOFFSETFROM:+0200
TZOFFSETTO:+0100
TZNAME:CET
DTSTART:20261025T010000
END:STANDARD
BEGIN:DAYLIGHT
TZOFFSETFROM:+0100
TZOFFSETTO:+0200
TZNAME:CEST
DTSTART:20270328T010000
END:DAYLIGHT
BEGIN:STANDARD
TZOFFSETFROM:+0200
TZOFFSETTO:+0100
TZNAME:CET
DTSTART:20271031T010000
END:STANDARD
END:VTIMEZONE
BEGIN:VEVENT
DTSTART;VALUE=DATE:20260521
DTEND;VALUE=DATE:20260529
DTSTAMP:20260424T095843
CREATED:20251125T180733Z
LAST-MODIFIED:20260408T184514Z
UID:22882-1779321600-1780012799@asesoresmedjugorje.com
SUMMARY:21 AL 28 DE MAYO- PENTECOSTÉS
DESCRIPTION:¡Únete a nuestra Peregrinación a Medjugorje!\nVive una experiencia espiritual única en Medjugorje del 21 al 28 de Mayo. Te invitamos a participar en un viaje de fe y renovación espiritual en uno de los destinos más sagrados del mundo. \n¿Por qué deberías unirte a nosotros?\nMedjugorje es un lugar de profunda conexión espiritual donde miles de peregrinos encuentran paz\, sanación y fortaleza en su fe. Durante esta peregrinación de 7 días\, tendrás la oportunidad de: \n\n\nVivir una experiencia espiritual única: Visitarás los lugares más emblemáticos de Medjugorje\, incluyendo la Colina de las Apariciones\, la iglesia de San Santiago\, y la Colina de la Cruz. Un espacio de oración\, meditación y reflexión que te ayudará a profundizar tu relación con Dios. \n\n\nAlojamiento en un hotel de excelente ubicación: Nos hospedaremos en un hotel con ubicación privilegiada\, justo al lado de la explanada donde se realizan las principales celebraciones religiosas. Desde tu habitación\, podrás disfrutar de la paz y la serenidad que caracterizan a este lugar santo. \n\n\nGuía en español: Contarás con la compañía de un guía experimentado\, que te acompañará durante todo el viaje\, explicando la historia\, los significados espirituales y los puntos más importantes de Medjugorje. Todo el recorrido se realizará en español para que no te pierdas ningún detalle. \n\n\nTraslados incluidos: El paquete incluye traslados desde el aeropuerto hasta el hotel y viceversa\, para que puedas disfrutar de tu viaje sin preocupaciones. Nuestro equipo se encargará de todo. \n\n\nExcursiones incluidas: Además de las visitas a los principales lugares de Medjugorje\, el paquete también incluye excursiones opcionales a otras áreas cercanas de interés espiritual y cultural\, lo que te permitirá conocer aún más sobre esta región llena de historia y significado. \n\n\n¿Por qué Medjugorje?\nMedjugorje es conocido por ser un lugar de gracia y milagros\, donde la Virgen María ha aparecido a miles de personas\, transmitiendo mensajes de paz\, esperanza y amor. Esta peregrinación te brindará una oportunidad única para renovar tu fe y experimentar una conexión profunda con Dios en un ambiente de oración y meditación. \n¡No te pierdas esta oportunidad!\nAcompáñanos del 21 al 28 de Mayo en esta peregrinación a Medjugorje. Vivirás una experiencia transformadora que fortalecerá tu vida espiritual. Inscríbete hoy mismo y asegura tu lugar en este viaje lleno de fe y esperanza. \nInscripción\n\n\n  \n\n\n\nTu nombre\n\n\n \nTu correo electrónico\n\n\n \nPaís\n—Por favor\, elige una opción—ArgentinaChileColombiaMéxicoPerúEspañaEstados UnidosOtro\n\n \nPeregrinación\n—Por favor\, elige una opción—6 al 12 de Abril – Medjugorje29 de Marzo al 5 de Abril – Semana Santa (desde Madrid)21 al 28 de Mayo – Pentecostés20 al 26 de Junio – Aniversario de las Apariciones31 de Julio al 7 de Agosto – Festival de la Juventud13 al 17 de Septiembre – Exaltación de la Cruz\n\n \nPrefijo\n—Por favor\, elige una opción—+54 (AR)+56 (CL)+57 (CO)+52 (MX)+51 (PE)+34 (ES)+1 (US)+593 (EC)\n\n \nNúmero de teléfono\n\n\n \nTu mensaje (opcional)\n\n\n \n\n Δ
URL:https://asesoresmedjugorje.com/event/6-al-12-de-abril-peregrinacion-a-medjugorje/
LOCATION:medjugorje\, medjugorje\, Bosnia and Herzegovina
CATEGORIES:Peregrinaciones
ATTACH;FMTTYPE=image/jpeg:https://asesoresmedjugorje.com/wp-content/uploads/2025/12/FB_IMG_1765106764072.jpg
END:VEVENT
BEGIN:VEVENT
DTSTART;TZID=Europe/Madrid:20260620T080000
DTEND;TZID=Europe/Madrid:20260626T170000
DTSTAMP:20260424T095843
CREATED:20260218T174527Z
LAST-MODIFIED:20260408T184507Z
UID:23212-1781942400-1782493200@asesoresmedjugorje.com
SUMMARY:20 AL 26 DE JUNIO. ANIVERSARIO DE LAS APARICIONES
DESCRIPTION:¡Únete a nuestra Peregrinación a Medjugorje!\nVive una experiencia espiritual única en Medjugorje del 20 al 26 de Junio. Te invitamos a participar en un viaje de fe y renovación espiritual en uno de los destinos más sagrados del mundo. \n¿Por qué deberías unirte a nosotros?\nMedjugorje es un lugar de profunda conexión espiritual donde miles de peregrinos encuentran paz\, sanación y fortaleza en su fe. Durante esta peregrinación de 7 días\, tendrás la oportunidad de: \n\n\nVivir una experiencia espiritual única: Visitarás los lugares más emblemáticos de Medjugorje\, incluyendo la Colina de las Apariciones\, la iglesia de San Santiago\, y la Colina de la Cruz. Un espacio de oración\, meditación y reflexión que te ayudará a profundizar tu relación con Dios. \n\n\nAlojamiento en un hotel de excelente ubicación: Nos hospedaremos en un hotel con ubicación privilegiada\, justo al lado de la explanada donde se realizan las principales celebraciones religiosas. Desde tu habitación\, podrás disfrutar de la paz y la serenidad que caracterizan a este lugar santo. \n\n\nGuía en español: Contarás con la compañía de un guía experimentado\, que te acompañará durante todo el viaje\, explicando la historia\, los significados espirituales y los puntos más importantes de Medjugorje. Todo el recorrido se realizará en español para que no te pierdas ningún detalle. \n\n\nTraslados incluidos: El paquete incluye traslados desde el aeropuerto hasta el hotel y viceversa\, para que puedas disfrutar de tu viaje sin preocupaciones. Nuestro equipo se encargará de todo. \n\n\nExcursiones incluidas: Además de las visitas a los principales lugares de Medjugorje\, el paquete también incluye excursiones opcionales a otras áreas cercanas de interés espiritual y cultural\, lo que te permitirá conocer aún más sobre esta región llena de historia y significado. \n\n\n¿Por qué Medjugorje?\nMedjugorje es conocido por ser un lugar de gracia y milagros\, donde la Virgen María ha aparecido a miles de personas\, transmitiendo mensajes de paz\, esperanza y amor. Esta peregrinación te brindará una oportunidad única para renovar tu fe y experimentar una conexión profunda con Dios en un ambiente de oración y meditación. \n¡No te pierdas esta oportunidad!\nAcompáñanos del 20 AL 26 de Junio en esta peregrinación a Medjugorje. Vivirás una experiencia transformadora que fortalecerá tu vida espiritual. Inscríbete hoy mismo y asegura tu lugar en este viaje lleno de fe y esperanza. \nInscripción\n\n\n  \n\n\n\nTu nombre\n\n\n \nTu correo electrónico\n\n\n \nPaís\n—Por favor\, elige una opción—ArgentinaChileColombiaMéxicoPerúEspañaEstados UnidosOtro\n\n \nPeregrinación\n—Por favor\, elige una opción—6 al 12 de Abril – Medjugorje29 de Marzo al 5 de Abril – Semana Santa (desde Madrid)21 al 28 de Mayo – Pentecostés20 al 26 de Junio – Aniversario de las Apariciones31 de Julio al 7 de Agosto – Festival de la Juventud13 al 17 de Septiembre – Exaltación de la Cruz\n\n \nPrefijo\n—Por favor\, elige una opción—+54 (AR)+56 (CL)+57 (CO)+52 (MX)+51 (PE)+34 (ES)+1 (US)+593 (EC)\n\n \nNúmero de teléfono\n\n\n \nTu mensaje (opcional)\n\n\n \n\n Δ
URL:https://asesoresmedjugorje.com/event/20-al-26-de-junio-aniversario-de-las-apariciones/
ATTACH;FMTTYPE=image/jpeg:https://asesoresmedjugorje.com/wp-content/uploads/2025/12/IMG_20251207_110052.jpg
END:VEVENT
BEGIN:VEVENT
DTSTART;TZID=Europe/Madrid:20260731T080000
DTEND;TZID=Europe/Madrid:20260807T170000
DTSTAMP:20260424T095843
CREATED:20260218T180111Z
LAST-MODIFIED:20260406T143700Z
UID:23226-1785484800-1786122000@asesoresmedjugorje.com
SUMMARY:31 DE JULIO AL 7 DE AGOSTO. FESTIVAL DE LA JUVENTUD.
DESCRIPTION:¡Únete a nuestra Peregrinación a Medjugorje!\nVive una experiencia espiritual única en Medjugorje del 31 de Julio al 7 de Agosto. Te invitamos a participar en un viaje de fe y renovación espiritual en uno de los destinos más sagrados del mundo. \n¿Por qué deberías unirte a nosotros?\nMedjugorje es un lugar de profunda conexión espiritual donde miles de peregrinos encuentran paz\, sanación y fortaleza en su fe. Durante esta peregrinación de 7 días\, tendrás la oportunidad de: \n\n\nVivir una experiencia espiritual única: Visitarás los lugares más emblemáticos de Medjugorje\, incluyendo la Colina de las Apariciones\, la iglesia de San Santiago\, y la Colina de la Cruz. Un espacio de oración\, meditación y reflexión que te ayudará a profundizar tu relación con Dios. \n\n\nAlojamiento en un hotel de excelente ubicación: Nos hospedaremos en un hotel con ubicación privilegiada\, justo al lado de la explanada donde se realizan las principales celebraciones religiosas. Desde tu habitación\, podrás disfrutar de la paz y la serenidad que caracterizan a este lugar santo. \n\n\nGuía en español: Contarás con la compañía de un guía experimentado\, que te acompañará durante todo el viaje\, explicando la historia\, los significados espirituales y los puntos más importantes de Medjugorje. Todo el recorrido se realizará en español para que no te pierdas ningún detalle. \n\n\nTraslados incluidos: El paquete incluye traslados desde el aeropuerto hasta el hotel y viceversa\, para que puedas disfrutar de tu viaje sin preocupaciones. Nuestro equipo se encargará de todo. \n\n\n¿Por qué Medjugorje?\nMedjugorje es conocido por ser un lugar de gracia y milagros\, donde la Virgen María ha aparecido a miles de personas\, transmitiendo mensajes de paz\, esperanza y amor. Esta peregrinación te brindará una oportunidad única para renovar tu fe y experimentar una conexión profunda con Dios en un ambiente de oración y meditación. \n¡No te pierdas esta oportunidad!\nAcompáñanos del 31 de Julio al 7 de Agosto en esta peregrinación a Medjugorje. Vivirás una experiencia transformadora que fortalecerá tu vida espiritual. Inscríbete hoy mismo y asegura tu lugar en este viaje lleno de fe y esperanza. \nInscripción\n\n\n  \n\n\n\nTu nombre\n\n\n \nTu correo electrónico\n\n\n \nPaís\n—Por favor\, elige una opción—ArgentinaChileColombiaMéxicoPerúEspañaEstados UnidosOtro\n\n \nPeregrinación\n—Por favor\, elige una opción—6 al 12 de Abril – Medjugorje29 de Marzo al 5 de Abril – Semana Santa (desde Madrid)21 al 28 de Mayo – Pentecostés20 al 26 de Junio – Aniversario de las Apariciones31 de Julio al 7 de Agosto – Festival de la Juventud13 al 17 de Septiembre – Exaltación de la Cruz\n\n \nPrefijo\n—Por favor\, elige una opción—+54 (AR)+56 (CL)+57 (CO)+52 (MX)+51 (PE)+34 (ES)+1 (US)+593 (EC)\n\n \nNúmero de teléfono\n\n\n \nTu mensaje (opcional)\n\n\n \n\n Δ
URL:https://asesoresmedjugorje.com/event/31-de-julio-al-7-de-agosto-festival-de-la-juventud/
ATTACH;FMTTYPE=image/jpeg:https://asesoresmedjugorje.com/wp-content/uploads/2025/12/IMG_20251207_203047.jpg
END:VEVENT
END:VCALENDAR